BEGIN:VCALENDAR
VERSION:2.0
PRODID:-//Lori Wyman - The Organic Actor - ECPv5.16.4//NONSGML v1.0//EN
CALSCALE:GREGORIAN
METHOD:PUBLISH
X-WR-CALNAME:Lori Wyman - The Organic Actor
X-ORIGINAL-URL:https://theorganicactor.com
X-WR-CALDESC:Events for Lori Wyman - The Organic Actor
BEGIN:VTIMEZONE
TZID:UTC
BEGIN:STANDARD
TZOFFSETFROM:+0000
TZOFFSETTO:+0000
TZNAME:UTC
DTSTART:20240101T000000
END:STANDARD
END:VTIMEZONE
BEGIN:VEVENT
DTSTART;TZID=UTC:20240801T140000
DTEND;TZID=UTC:20240801T150000
DTSTAMP:20260424T041422
CREATED:20240728T160231Z
LAST-MODIFIED:20240728T162809Z
UID:5112-1722520800-1722524400@theorganicactor.com
SUMMARY:Lori Wyman's Office Hours Special Guest NY Casting Director Robin Carus Aug 1\, 2024 2-3P EST
DESCRIPTION:LORI WYMAN’S OFFICE HOURS –  Thursday Aug 1\, 2024 2-3PM EST\nWith Special Guest New York Casting Director Robin Carus – https://www.broadwayworld.com/people/Robin-Carus/\nhttps://www.michaelmooreagency.com/robin-carus\n                                                            \n\nYou can find us at: \nhttps://www.facebook.com/loriwyman \nOR we are also on ZOOM:    Register in advance for this meeting:\nhttps://us02web.zoom.us/meeting/register/up0lduqrqzwtgrKHKbDPN7WdbuEyYudVmQ \nAfter registering\, you will receive a confirmation email containing information about joining the meeting. IF the date is anything OTHER than March 7th\, you can still use that same link!!!
URL:https://theorganicactor.com/event/lori-wymans-office-hours-special-guest-ny-casting-director-robin-carus-aug-1-2024-2-3p-est/
LOCATION:ONLINE
END:VEVENT
END:VCALENDAR