BEGIN:VCALENDAR
VERSION:2.0
PRODID:-//Lori Wyman - The Organic Actor - ECPv5.16.4//NONSGML v1.0//EN
CALSCALE:GREGORIAN
METHOD:PUBLISH
X-WR-CALNAME:Lori Wyman - The Organic Actor
X-ORIGINAL-URL:https://theorganicactor.com
X-WR-CALDESC:Events for Lori Wyman - The Organic Actor
BEGIN:VTIMEZONE
TZID:UTC
BEGIN:STANDARD
TZOFFSETFROM:+0000
TZOFFSETTO:+0000
TZNAME:UTC
DTSTART:20220101T000000
END:STANDARD
END:VTIMEZONE
BEGIN:VEVENT
DTSTART;TZID=UTC:20220804T140000
DTEND;TZID=UTC:20220804T150000
DTSTAMP:20260421T100104
CREATED:20220725T214037Z
LAST-MODIFIED:20220725T214037Z
UID:4169-1659621600-1659625200@theorganicactor.com
SUMMARY:Lori Wyman's Office Hours Thursday August 4\, 2022 2-3pm est
DESCRIPTION:LORI WYMAN’S OFFICE HOURS\nTHURSDAY August 4th\, 2022 \n2-3PM Eastern\n                            DON’T MISS IT!!                       \n\nYou can find us at:\nhttps://www.facebook.com/groups/loriwymansofficehours/ \nOR we are also on ZOOM:    Register in advance for this meeting:\nhttps://us02web.zoom.us/meeting/register/up0lduqrqzwtgrKHKbDPN7WdbuEyYudVmQ \nAfter registering\, you will receive a confirmation email containing information about joining the meeting.
URL:https://theorganicactor.com/event/lori-wymans-office-hours-thursday-august-4-2022-2-3pm-est/
LOCATION:ONLINE
END:VEVENT
END:VCALENDAR