BEGIN:VCALENDAR
VERSION:2.0
PRODID:-//Lori Wyman - The Organic Actor - ECPv5.16.4//NONSGML v1.0//EN
CALSCALE:GREGORIAN
METHOD:PUBLISH
X-WR-CALNAME:Lori Wyman - The Organic Actor
X-ORIGINAL-URL:https://theorganicactor.com
X-WR-CALDESC:Events for Lori Wyman - The Organic Actor
BEGIN:VTIMEZONE
TZID:UTC
BEGIN:STANDARD
TZOFFSETFROM:+0000
TZOFFSETTO:+0000
TZNAME:UTC
DTSTART:20230101T000000
END:STANDARD
END:VTIMEZONE
BEGIN:VEVENT
DTSTART;TZID=UTC:20230406T140000
DTEND;TZID=UTC:20230406T150000
DTSTAMP:20260421T232419
CREATED:20230329T212901Z
LAST-MODIFIED:20230329T212943Z
UID:4532-1680789600-1680793200@theorganicactor.com
SUMMARY:LORI WYMAN'S OFFICE HOURS - 2-3PM Est.
DESCRIPTION:LORI WYMAN’S OFFICE HOURS\nTHURSDAY APRIL 6th\, 2023\n2-3PM Eastern\n              \nYou can find us at: \nhttps://www.facebook.com/groups/loriwymansofficehours/ \nOR we are also on ZOOM:    Register in advance for this meeting:\nhttps://us02web.zoom.us/meeting/register/up0lduqrqzwtgrKHKbDPN7WdbuEyYudVmQ \nAfter registering\, you will receive a confirmation email containing information about joining the meeting. IF the date is anything OTHER than APRIL 6th\, you can still use that same link!!!
URL:https://theorganicactor.com/event/lori-wymans-office-hours-2-3pm-est-2/
LOCATION:ONLINE
END:VEVENT
END:VCALENDAR