BEGIN:VCALENDAR
VERSION:2.0
PRODID:-//Lori Wyman - The Organic Actor - ECPv5.16.4//NONSGML v1.0//EN
CALSCALE:GREGORIAN
METHOD:PUBLISH
X-WR-CALNAME:Lori Wyman - The Organic Actor
X-ORIGINAL-URL:https://theorganicactor.com
X-WR-CALDESC:Events for Lori Wyman - The Organic Actor
BEGIN:VTIMEZONE
TZID:UTC
BEGIN:STANDARD
TZOFFSETFROM:+0000
TZOFFSETTO:+0000
TZNAME:UTC
DTSTART:20230101T000000
END:STANDARD
END:VTIMEZONE
BEGIN:VEVENT
DTSTART;TZID=UTC:20230426T183000
DTEND;TZID=UTC:20230426T203000
DTSTAMP:20260421T232738
CREATED:20230329T212314Z
LAST-MODIFIED:20230329T212314Z
UID:4530-1682533800-1682541000@theorganicactor.com
SUMMARY:EVERYTHING SELF TAPING with Lori Wyman and Dean Feldman-CLASS #3
DESCRIPTION:EVERYTHING SELF TAPING with Lori Wyman & Dean Feldman \n \n 
URL:https://theorganicactor.com/event/everything-self-taping-with-lori-wyman-and-dean-feldman-class-3/
LOCATION:ONLINE
ORGANIZER;CN="Lori%20Wyman":MAILTO:lori@loriWymancasting.com
END:VEVENT
END:VCALENDAR