BEGIN:VCALENDAR
VERSION:2.0
PRODID:-//Lori Wyman - The Organic Actor - ECPv5.16.4//NONSGML v1.0//EN
CALSCALE:GREGORIAN
METHOD:PUBLISH
X-WR-CALNAME:Lori Wyman - The Organic Actor
X-ORIGINAL-URL:https://theorganicactor.com
X-WR-CALDESC:Events for Lori Wyman - The Organic Actor
BEGIN:VTIMEZONE
TZID:UTC
BEGIN:STANDARD
TZOFFSETFROM:+0000
TZOFFSETTO:+0000
TZNAME:UTC
DTSTART:20240101T000000
END:STANDARD
END:VTIMEZONE
BEGIN:VEVENT
DTSTART;TZID=UTC:20240825T100000
DTEND;TZID=UTC:20240825T180000
DTSTAMP:20260424T040113
CREATED:20240820T003531Z
LAST-MODIFIED:20240820T003531Z
UID:5133-1724580000-1724608800@theorganicactor.com
SUMMARY:Marc Macaulay Adds a 2nd Class on SUNDAY Aug 25th\, 2024 IN PERSON at LORI WYMAN CASTING!
DESCRIPTION:MARC MACAULAY WILL BE TEACHING\nTHIS SUNDAY AUGUST 25th CLASS ADDED\nSATURDAY IS ALL FULL\, SO WE HAVE ADDED ANOTHER CLASS!!\nYou read that right!\nSaturday is ALL FULL   So we have Added SUNDAY AUG 25th. 10-6p est\nClass is limited to 12 ADULT (17+) Students\nMARC MACAULAY will be adding another class and teaching\, LIVE AND IN PERSON\, \nat the offices of Lori Wyman Casting In North Miami Beach\, Fl      \n16499 NE 19the Ave #203 in North Miami Beach\, Fl   33162                                     \nNEW CLASS DATE – THIS SUNDAY AUGUST 25th\, 2024 \nTIME 10AM – 6PM est\nIN PERSON – ON CAMERA \nNEW DATE ADDED –\nSUNDAY August 25th\, 2024 \nDON’T MISS OUT!!! \nSIGN UP NOW     \nINVESTMENT – $250 for the day! \n   Marc will present each actor with sides\, help them break down the character and find the special nuances to create a unique and bookable audition. Marc worked as a professional film and television actor for over 30 years and now he wants to share the tools that he used that allowed him to be a full-time actor with other actors!                                            Class is limited to 12 ADULT (17+) Students\nYou will receive sides and you will be video taped and given Critique\nto make your auditions even better.    \n            \nCHECK OUT MARCMACAULAY.com\nSIGN UP NOW:
URL:https://theorganicactor.com/event/marc-macaulay-adds-a-2nd-class-on-sunday-aug-25th-2024-in-person-at-lori-wyman-casting/
LOCATION:Lori Wyman Casting\, 16499 NE 19 Ave #203\, North Miami Beach\, FL\, United States
CATEGORIES:Auditioning Workshop
END:VEVENT
END:VCALENDAR