BEGIN:VCALENDAR
VERSION:2.0
PRODID:-//Lori Wyman - The Organic Actor - ECPv5.16.4//NONSGML v1.0//EN
CALSCALE:GREGORIAN
METHOD:PUBLISH
X-WR-CALNAME:Lori Wyman - The Organic Actor
X-ORIGINAL-URL:https://theorganicactor.com
X-WR-CALDESC:Events for Lori Wyman - The Organic Actor
BEGIN:VTIMEZONE
TZID:UTC
BEGIN:STANDARD
TZOFFSETFROM:+0000
TZOFFSETTO:+0000
TZNAME:UTC
DTSTART:20250101T000000
END:STANDARD
END:VTIMEZONE
BEGIN:VEVENT
DTSTART;TZID=UTC:20250426T100000
DTEND;TZID=UTC:20250426T180000
DTSTAMP:20260423T163042
CREATED:20250410T193941Z
LAST-MODIFIED:20250411T102612Z
UID:5327-1745661600-1745690400@theorganicactor.com
SUMMARY:Marc Macaulay Teaches IN PERSON class - Saturday April 26\, 2025 in Miami\, Florida
DESCRIPTION: MARC MACAULAY \n                        will be teaching\, LIVE AND IN PERSON\, at the offices of                                                                               Lori Wyman Casting In North Miami Beach\, Florida                                                                                                                                                 CLASS DATE – SATURDAY APRIL 26\, 2025  TIME 10AM – 6PM \nSATURDAY APRIL 26\, 2025\n10AM – 6PM            \nINVESTMENT – $295 for the whole day! \n       Marc will present each actor with sides\, help them break down the character and find the special nuances to create a unique and bookable audition. Marc worked as a professional film and television actor for over 30 years and now he wants to share the tools that he used to allow him to be a full-time actor with other actors!                                                                                                                                                                                                                                                                                                               This class is limited to 12 ADULT students.                                                                                                                                       You will receive sides and you will be video taped and given Critique to make your TV/Film auditions better.                                CHECK OUT MARCMACAULAY.com\nSIGN UP NOW:\n 
URL:https://theorganicactor.com/event/marc-macaulay-teaches-in-person-class-saturday-april-26-2025-in-miami-florida/
LOCATION:Lori Wyman Casting\, 16499 NE 19 Ave #203\, North Miami Beach\, FL\, United States
CATEGORIES:Actor Workshops,Auditioning Workshop
ORGANIZER;CN="Lori%20Wyman":MAILTO:lori@loriWymancasting.com
END:VEVENT
END:VCALENDAR