BEGIN:VCALENDAR
VERSION:2.0
PRODID:-//Lori Wyman - The Organic Actor - ECPv5.16.4//NONSGML v1.0//EN
CALSCALE:GREGORIAN
METHOD:PUBLISH
X-WR-CALNAME:Lori Wyman - The Organic Actor
X-ORIGINAL-URL:https://theorganicactor.com
X-WR-CALDESC:Events for Lori Wyman - The Organic Actor
BEGIN:VTIMEZONE
TZID:UTC
BEGIN:STANDARD
TZOFFSETFROM:+0000
TZOFFSETTO:+0000
TZNAME:UTC
DTSTART:20250101T000000
END:STANDARD
END:VTIMEZONE
BEGIN:VEVENT
DTSTART;TZID=UTC:20250904T140000
DTEND;TZID=UTC:20250904T150000
DTSTAMP:20260423T091504
CREATED:20250904T160903Z
LAST-MODIFIED:20250904T161916Z
UID:5418-1756994400-1756998000@theorganicactor.com
SUMMARY:LORI WYMAN'S OFFICE HOURS FEATURING CD TERRY BERLAND - Thursday Sept 4th\, 2025 2PM EST
DESCRIPTION:Lori Wyman’s Office Hours!!\nTHURSDAY SEPTEMBER 4th\, 2025\n2:00-3:00PM EST\nJoin Zoom Meeting\nhttps://us02web.zoom.us/j/798133577?pwd=UlcrVFpOQUNwMnZKY29sVkp1SHdjdz09\nMeeting ID: 798 133 577\nPasscode: loriwyman\nWe have a SPECIAL GUEST TODAY!\nCOMMERCIAL CASTING DIRECTOR\nTERRY BERLAND!!!\nI am always so excited when\nTerry Berland\ncomes to visit us on\nOffice Hours!\nTerry is the premiere\nCommercial Casting Director in LA.\nTerry was casting commercials in\nNew York for many years before moving out to LA over 20 years ago.\nIf ANYONE can educate you about the Ins and Outs of auditioning for commercials\, Terry CAN!!!!\nDo not miss today’s session.\nGet ready to learn!!
URL:https://theorganicactor.com/event/lori-wymans-office-hours-featuring-cd-terry-berland-thursday-sept-4th-2025-2pm-est/
LOCATION:ONLINE
ATTACH;FMTTYPE=image/jpeg:https://theorganicactor.com/wp-content/uploads/2025/01/44.jpg
END:VEVENT
END:VCALENDAR