BEGIN:VCALENDAR
VERSION:2.0
PRODID:-//Lori Wyman - The Organic Actor - ECPv5.16.4//NONSGML v1.0//EN
CALSCALE:GREGORIAN
METHOD:PUBLISH
X-WR-CALNAME:Lori Wyman - The Organic Actor
X-ORIGINAL-URL:https://theorganicactor.com
X-WR-CALDESC:Events for Lori Wyman - The Organic Actor
BEGIN:VTIMEZONE
TZID:UTC
BEGIN:STANDARD
TZOFFSETFROM:+0000
TZOFFSETTO:+0000
TZNAME:UTC
DTSTART:20250101T000000
END:STANDARD
END:VTIMEZONE
BEGIN:VEVENT
DTSTART;TZID=UTC:20250925T140000
DTEND;TZID=UTC:20250925T150000
DTSTAMP:20260423T091613
CREATED:20250923T223641Z
LAST-MODIFIED:20250923T223735Z
UID:5432-1758808800-1758812400@theorganicactor.com
SUMMARY:LORI WYMAN'S OFFICE HOURS - 1 WEEK EARLY - TODAY\, SEPT 25\, 2025 2-3PM est
DESCRIPTION:I AM NOT ABLE TO\nCONDUCT OFFICE HOURS\nON THE\nFIRST THURSDAY OF OCTOBER\,\nSO I will Hold Our\nOFFICE HOURS\n1 WEEK EARLY!\nTUNE IN TO OFFICE HOURS\nTHURSDAY SEPTEMBER 25th.\nTOPIC FOR THIS SESSION IS\nHOW FEAR AND EXCUSES\nARE HOLDING YOU BACK!!\nWe will conduct\nINTERACTIVE EXERCISES\nto help you\nBREAK THROUGH\nThese Barriers!\nLori Wyman’s Office Hours!!\nTHURSDAY SEPTEMBER 25th\, 2025\n2:00-3:00PM EST\nHERE IS THE ZOOM Meeting ID: 798 133 577\nPasscode: loriwyman\nOffice Hours!\nLooking forward to seeing you\nTHURSDAY SEPT 25th AT 2PM est –\nOn ZOOM OR On FACEBOOK LIVE! \nhttps://www.facebook.com/loriwyman
URL:https://theorganicactor.com/event/lori-wymans-office-hours-1-week-early-today-sept-25-2025-2-3pm-est/
LOCATION:ONLINE
END:VEVENT
END:VCALENDAR