BEGIN:VCALENDAR
VERSION:2.0
PRODID:-//Lori Wyman - The Organic Actor - ECPv5.16.4//NONSGML v1.0//EN
CALSCALE:GREGORIAN
METHOD:PUBLISH
X-WR-CALNAME:Lori Wyman - The Organic Actor
X-ORIGINAL-URL:https://theorganicactor.com
X-WR-CALDESC:Events for Lori Wyman - The Organic Actor
BEGIN:VTIMEZONE
TZID:UTC
BEGIN:STANDARD
TZOFFSETFROM:+0000
TZOFFSETTO:+0000
TZNAME:UTC
DTSTART:20250101T000000
END:STANDARD
END:VTIMEZONE
BEGIN:VEVENT
DTSTART;TZID=UTC:20251004T110000
DTEND;TZID=UTC:20251004T190000
DTSTAMP:20260423T075004
CREATED:20250904T160550Z
LAST-MODIFIED:20250904T160550Z
UID:5416-1759575600-1759604400@theorganicactor.com
SUMMARY:Terry Berland Teaches Commercial Acting Friday AND Saturday October 3-4\, 2025
DESCRIPTION:LEARN COMMERCIAL ACTING\nFROM ONE OF THE TOP\nCOMMERCIAL\nCASTING DIRECTORS\nTERRY BERLAND\, CSA!\nFor Adults 17+\nCOMMERCIALS ARE\nTHE BREAD AND BUTTER\nFOR ACTORS!\nFriday night October 3rd and Saturday October 4th\, 2025\nON ZOOM\n$295 investment\nClass Limited to 16 Students\nWho IS Terry Berland and why do you want to take her class? \nTerry Berland is a Casting Director and acting teacher committed to providing talent with the knowledge and tools it takes to succeed in the business and art of acting in on-camera commercials\, improv and voice-over\, from beginner to advanced. Through knowledge and understanding\, YOU will learn acting techniques that can increase your callbacks and booking rates\, in addition to empowering you with the confidence that comes from knowing you are truly a part of the acting community.\nThe workshops are designed to make the actor’s goals attainable. The environment is supportive\, fun\, and focused on results that will immediately affect your career. The workshop is designed in a group situation combined with individual one-on-one instruction.\nDue to the current situation\, commercial auditioning will be conducted ONLINE until further notice. If anyone can show you how to excel at this\, Terry Berland can! She will teach you the NEW TECHNIQUES to be able to continue auditioning online from your home self taping area.\nYou will learn techniques that can increase your callback and booking ratio and will learn how to bring out your own unique personality.\nThroughout the day commercial acting techniques will be introduced to each one of you with workouts using actual commercial scripts and improv situations.\nThis class is ESSENTIAL for you to stay up with the latest skills so you can continue working in the Commercial Acting field.\nTHE BEST PART:\nYou will “walk out” of Terry Berland’s Commercial Acting Class with a confident\, honest\, open performance that will be noticed. \nDON’T MISS OUT!!!! \nBelow are just a few of the comments that former students have written about taking Terry’s class. \n“As a result of Terry Berland’s Commercial Acting Workshop I met my fantastic talent agent. Since taking the workshop in 2015\, I’ve booked 50+ commercials and most recently a recurring animation series. If you’re looking to break into the business\, or advance your career\, Terry Berland Workshops should be your first stop.“\nOscar Balderrama \n“I can not recommend Terry’s Commercial Acting Workshop highly enough. Terry makes the class all about YOU – YOUR skills\, YOUR growth\, YOUR career – so that you get maximum benefit from her experience as a casting director. You learn what is REALLY needed to ace that audition. I got signed with an agent right after completing the class.”\nDave Faulkner \n“The very first week after finishing Terry’s class\, I got a call back. Terry’s class gives more than just the standard and the obvious. It teaches growth and development of an actor’s creativity. It identifies special\, unique strengths that each individual actor\, can emphasize and personally capitalize on to get more callbacks and bookings.”\nLyn Lewis \nClass will be held \,\nFriday night October 3rd\, 2025\nBasics of Creating a Commercial Short Scene\nFROM 7-9:30 PM est\nAND\nSaturday October 4th\, 2025\nCommercial Acting for Competitive Auditions\nSaturday 11AM – 7PM est\nALL ON ZOOM\nSO you can sign up from ANYWHERE!\nMake the commitment NOW!!\nLimited to 16 Students Only!\nInvestment: $295\nCall 305 354-3901 with any questions!\nThere will be a 45 minute lunch break during the class. \nThroughout the day commercial acting techniques will be introduced to each one of you with workouts using actual commercial scripts and improv situations.\nThis class is ESSENTIAL for you to stay up with the latest skills so you can continue working in the Commercial Acting field. \nTHE BEST PART:\nYou will walk out of Terry Berland’s Commercial Acting Workshop with a confident\, honest\, open performance that will be noticed.\nCALL 305 354-3901 with ANY questions!\nDON’T MISS OUT!!!! \nThank you!\nLori Wyman Casting\n(305) 354-3901
URL:https://theorganicactor.com/event/terry-berland-teaches-commercial-acting-friday-and-saturday-october-3-4-2025/
LOCATION:ONLINE
CATEGORIES:Actor Workshops
ATTACH;FMTTYPE=image/png:https://theorganicactor.com/wp-content/uploads/2022/03/Screen-Shot-2022-03-16-at-4.11.05-PM.png
ORGANIZER;CN="Lori%20Wyman":MAILTO:lori@loriWymancasting.com
END:VEVENT
END:VCALENDAR