BEGIN:VCALENDAR
VERSION:2.0
PRODID:-//Lori Wyman - The Organic Actor - ECPv5.16.4//NONSGML v1.0//EN
CALSCALE:GREGORIAN
METHOD:PUBLISH
X-WR-CALNAME:Lori Wyman - The Organic Actor
X-ORIGINAL-URL:https://theorganicactor.com
X-WR-CALDESC:Events for Lori Wyman - The Organic Actor
BEGIN:VTIMEZONE
TZID:UTC
BEGIN:STANDARD
TZOFFSETFROM:+0000
TZOFFSETTO:+0000
TZNAME:UTC
DTSTART:20250101T000000
END:STANDARD
END:VTIMEZONE
BEGIN:VEVENT
DTSTART;TZID=UTC:20251204T020000
DTEND;TZID=UTC:20251204T150000
DTSTAMP:20260423T063938
CREATED:20251116T034801Z
LAST-MODIFIED:20251116T034801Z
UID:5756-1764813600-1764860400@theorganicactor.com
SUMMARY:LORI WYMAN'S OFFICE HOURS! TODAY 2-3PM!!
DESCRIPTION:Lori Wyman’s Office Hours!!\nTHURSDAY DECEMBER 4th\, 2025\n2:00-3:00PM EST\nJoin Zoom Meeting\nhttps://us02web.zoom.us/j/798133577?pwd=UlcrVFpOQUNwMnZKY29sVkp1SHdjdz09\nMeeting ID: 798 133 577\nPasscode: loriwyman\n                                                                               \nDo not miss today’s session.
URL:https://theorganicactor.com/event/lori-wymans-office-hours-today-2-3pm/
LOCATION:ONLINE
ATTACH;FMTTYPE=image/jpeg:https://theorganicactor.com/wp-content/uploads/2022/09/preview.jpg
END:VEVENT
END:VCALENDAR