BEGIN:VCALENDAR
VERSION:2.0
PRODID:-//Lori Wyman - The Organic Actor - ECPv5.16.4//NONSGML v1.0//EN
CALSCALE:GREGORIAN
METHOD:PUBLISH
X-WR-CALNAME:Lori Wyman - The Organic Actor
X-ORIGINAL-URL:https://theorganicactor.com
X-WR-CALDESC:Events for Lori Wyman - The Organic Actor
BEGIN:VTIMEZONE
TZID:UTC
BEGIN:STANDARD
TZOFFSETFROM:+0000
TZOFFSETTO:+0000
TZNAME:UTC
DTSTART:20260101T000000
END:STANDARD
END:VTIMEZONE
BEGIN:VEVENT
DTSTART;TZID=UTC:20260301T170000
DTEND;TZID=UTC:20260301T190000
DTSTAMP:20260423T003454
CREATED:20260209T204639Z
LAST-MODIFIED:20260209T211614Z
UID:6313-1772384400-1772391600@theorganicactor.com
SUMMARY:Lori Wyman and Ali Macaulay Teach PreTeens/Teens - March 1\, 8\, 15\, 2026
DESCRIPTION:Lori Wyman and Ali Macaulay Teach Teens/PreTeens\nWe are looking for 12 Children\, age range 9-15\, who want to                 increase their chances of Booking a Film or Television Role. \n-Is your child interested in auditioning for TV or film projects?\n-Are you looking for an online TV/Film auditioning class for your child?\n– Do you want to ensure your child is fully prepared for the TV & Film industry?\nWHEN?\nSunday\, March 1st\, 2026\nSunday\, March 8th\, 2026\nSunday\, March 15th\, 2026\nALL from 5-7PM EST\nWHERE?  Online\nINVESTMENT?                                                                                                                                –Register by February 22nd\, Special Price: $195\n-After February 23rd\, price of class is $225\nCLASS AGENDA:                                                                                                                         1st Sunday– Students will start with class introductions and review 1-Liner auditions. \n2nd Sunday– Students will go over Comedic auditions including acting techniques for kid’s shows as seen on Nickelodeon.\n3rd Sunday– Students will cover dramatic auditions like that of The Glades and Burn Notice. For this last class ONLY\, Casting Director Lori Wyman will conduct a Q&A session with parents in a separate breakout room.\nABOUT YOUR INSTRUCTOR:  Ali Macaulay has been acting for over 15 years in various plays\, television series\, and films. Ali has her Bachelor of Fine Arts in Acting from the University of Central Florida. She is most known for her role in Apple TV’s “Bad Monkey.” Ali has most recently worked as a Casting Associate on the Peacock Original series “M.I.A.” watching hundreds of audition videos per week .
URL:https://theorganicactor.com/event/lori-wyman-and-ali-macaulay-teach-preteens-teens-march-1-8-15-2026/
LOCATION:ONLINE
CATEGORIES:Auditioning Workshop,KID Auditioning,Teen Acting
ORGANIZER;CN="Lori%20Wyman":MAILTO:lori@loriWymancasting.com
END:VEVENT
END:VCALENDAR